BEGIN:VCALENDAR
METHOD:PUBLISH
VERSION:2.0
PRODID:-//hacksw/handcal//NONSGML v1.0//EN
X-WR-TIMEZONE:Australia/Brisbane
CALSCALE:GREGORIAN
BEGIN:VEVENT
DTSTART;TZID=Australia/Brisbane:20260506T210000
DTEND;TZID=Australia/Brisbane:20260506T213000
UID:886205089069A4D542A056A3454254801595169160269A4D542A057B07483928
DTSTAMP:20260425T000206
LOCATION:AHOC Club Rooms, Carindale
DESCRIPTION:My World of Cars Following our general meeting, Russell Brown 
 will tell us a little about himself and his family, his history, the cars 
 in his life and how he became an Austin Healey Owner.
URL;VALUE=URI:http://austinhealeyqld.com.au/events/view.php?id=88620508906
 9A4D542A056A3454254801595169160269A4D542A057B07483928
SUMMARY:My World of Cars - Russell Brown
END:VEVENT
END:VCALENDAR
