BEGIN:VCALENDAR
METHOD:PUBLISH
VERSION:2.0
PRODID:-//hacksw/handcal//NONSGML v1.0//EN
X-WR-TIMEZONE:Australia/Brisbane
CALSCALE:GREGORIAN
BEGIN:VEVENT
DTSTART;TZID=Australia/Brisbane:20260126T060000
DTEND;TZID=Australia/Brisbane:20260126T160000
UID:O8WTNP54JRFF9GTC3OL721H60E5JZ64MM8CCXXA8GH3G11MJNFVT1VDW3HPYRZQJ
DTSTAMP:20260422T024128
LOCATION:Ormiston State School, Wellington Street, Ormiston
DESCRIPTION:Bayside Vehicle Restorers\' Club Australia Day Rally Ormiston 
 State School, Wellington Street, Ormiston 6:00am Display vehicle entry 7:0
 0am General public entry Details: https://baysideclub.org.au/
URL;VALUE=URI:http://austinhealeyqld.com.au/events/view.php?id=O8WTNP54JRF
 F9GTC3OL721H60E5JZ64MM8CCXXA8GH3G11MJNFVT1VDW3HPYRZQJ
SUMMARY:Bayside Vehicle Restorers’ Club Australia Day Rally
END:VEVENT
END:VCALENDAR
